BEGIN:VCALENDAR
VERSION:2.0
PRODID:-//Alianza 614 - ECPv6.15.20//NONSGML v1.0//EN
CALSCALE:GREGORIAN
METHOD:PUBLISH
X-ORIGINAL-URL:https://somosalianza614.org
X-WR-CALDESC:Events for Alianza 614
REFRESH-INTERVAL;VALUE=DURATION:PT1H
X-Robots-Tag:noindex
X-PUBLISHED-TTL:PT1H
BEGIN:VTIMEZONE
TZID:UTC
BEGIN:STANDARD
TZOFFSETFROM:+0000
TZOFFSETTO:+0000
TZNAME:UTC
DTSTART:20250101T000000
END:STANDARD
END:VTIMEZONE
BEGIN:VEVENT
DTSTART;TZID=UTC:20260422T140000
DTEND;TZID=UTC:20260422T170000
DTSTAMP:20260423T170354
CREATED:20260212T210316Z
LAST-MODIFIED:20260212T214227Z
UID:1954-1776866400-1776877200@somosalianza614.org
SUMMARY:Wednesday's Fruit and Vegetable Bag Special (Health and Community on Miércoles de Morral)
DESCRIPTION:“Recycle and take home your bag of fruits and vegetables.”
URL:https://somosalianza614.org/event/wednesdays-fruit-and-vegetable-bag-special-health-and-community-on-backpack-wednesday/
END:VEVENT
END:VCALENDAR