BEGIN:VCALENDAR
VERSION:2.0
PRODID:-//Alianza 614 - ECPv6.15.20//NONSGML v1.0//EN
CALSCALE:GREGORIAN
METHOD:PUBLISH
X-ORIGINAL-URL:https://somosalianza614.org
X-WR-CALDESC:Events for Alianza 614
REFRESH-INTERVAL;VALUE=DURATION:PT1H
X-Robots-Tag:noindex
X-PUBLISHED-TTL:PT1H
BEGIN:VTIMEZONE
TZID:UTC
BEGIN:STANDARD
TZOFFSETFROM:+0000
TZOFFSETTO:+0000
TZNAME:UTC
DTSTART:20250101T000000
END:STANDARD
END:VTIMEZONE
BEGIN:VEVENT
DTSTART;TZID=UTC:20260426T130000
DTEND;TZID=UTC:20260426T170000
DTSTAMP:20260423T184613
CREATED:20260212T210744Z
LAST-MODIFIED:20260212T210744Z
UID:1979-1777208400-1777222800@somosalianza614.org
SUMMARY:Children’s Day Festival
DESCRIPTION:The Importance of Mental Health in Our Children
URL:https://somosalianza614.org/event/childrens-day-festival-2/
END:VEVENT
BEGIN:VEVENT
DTSTART;TZID=UTC:20260527T140000
DTEND;TZID=UTC:20260527T170000
DTSTAMP:20260423T184613
CREATED:20260212T210348Z
LAST-MODIFIED:20260212T210348Z
UID:1955-1779890400-1779901200@somosalianza614.org
SUMMARY:Wednesday's Fruit and Vegetable Bag Special.
DESCRIPTION:“Recycle and take home your bag of fruits and vegetables.”
URL:https://somosalianza614.org/event/wednesdays-fruit-and-vegetable-bag-special/
END:VEVENT
BEGIN:VEVENT
DTSTART;TZID=UTC:20260624T140000
DTEND;TZID=UTC:20260624T170000
DTSTAMP:20260423T184613
CREATED:20260212T210405Z
LAST-MODIFIED:20260212T210405Z
UID:1956-1782309600-1782320400@somosalianza614.org
SUMMARY:Wednesday's Fruit and Vegetable Bag Special.
DESCRIPTION:“Recycle and take home your bag of fruits and vegetables.”
URL:https://somosalianza614.org/event/wednesdays-fruit-and-vegetable-bag-special-2/
END:VEVENT
BEGIN:VEVENT
DTSTART;TZID=UTC:20260722T140000
DTEND;TZID=UTC:20260722T170000
DTSTAMP:20260423T184613
CREATED:20260212T210422Z
LAST-MODIFIED:20260212T210422Z
UID:1957-1784728800-1784739600@somosalianza614.org
SUMMARY:Wednesday's Fruit and Vegetable Bag Special.
DESCRIPTION:“Recycle and take home your bag of fruits and vegetables.”
URL:https://somosalianza614.org/event/wednesdays-fruit-and-vegetable-bag-special-3/
END:VEVENT
BEGIN:VEVENT
DTSTART;TZID=UTC:20260808T100000
DTEND;TZID=UTC:20260808T130000
DTSTAMP:20260423T184613
CREATED:20260212T210625Z
LAST-MODIFIED:20260212T210625Z
UID:1978-1786183200-1786194000@somosalianza614.org
SUMMARY:Happy Backpack
DESCRIPTION:
URL:https://somosalianza614.org/event/happy-backpack/
END:VEVENT
BEGIN:VEVENT
DTSTART;TZID=UTC:20260826T140000
DTEND;TZID=UTC:20260826T170000
DTSTAMP:20260423T184613
CREATED:20260212T210436Z
LAST-MODIFIED:20260212T210436Z
UID:1974-1787752800-1787763600@somosalianza614.org
SUMMARY:Wednesday's Fruit and Vegetable Bag Special.
DESCRIPTION:“Recycle and take home your bag of fruits and vegetables.”
URL:https://somosalianza614.org/event/wednesdays-fruit-and-vegetable-bag-special-4/
END:VEVENT
BEGIN:VEVENT
DTSTART;TZID=UTC:20260923T140000
DTEND;TZID=UTC:20260923T170000
DTSTAMP:20260423T184613
CREATED:20260212T210511Z
LAST-MODIFIED:20260212T210511Z
UID:1975-1790172000-1790182800@somosalianza614.org
SUMMARY:Wednesday's Fruit and Vegetable Bag Special.
DESCRIPTION:“Recycle and take home your bag of fruits and vegetables.”
URL:https://somosalianza614.org/event/wednesdays-fruit-and-vegetable-bag-special-5/
END:VEVENT
BEGIN:VEVENT
DTSTART;TZID=UTC:20261001T010000
DTEND;TZID=UTC:20261001T170000
DTSTAMP:20260423T184613
CREATED:20260212T210837Z
LAST-MODIFIED:20260212T210837Z
UID:1980-1790816400-1790874000@somosalianza614.org
SUMMARY:🗣️ We Are One Voice
DESCRIPTION:
URL:https://somosalianza614.org/event/%f0%9f%97%a3%ef%b8%8f-we-are-one-voice/
END:VEVENT
BEGIN:VEVENT
DTSTART;TZID=UTC:20261028T140000
DTEND;TZID=UTC:20261028T170000
DTSTAMP:20260423T184613
CREATED:20260212T210524Z
LAST-MODIFIED:20260212T210524Z
UID:1976-1793196000-1793206800@somosalianza614.org
SUMMARY:Wednesday's Fruit and Vegetable Bag Special.
DESCRIPTION:“Recycle and take home your bag of fruits and vegetables.”
URL:https://somosalianza614.org/event/wednesdays-fruit-and-vegetable-bag-special-6/
END:VEVENT
BEGIN:VEVENT
DTSTART;TZID=UTC:20261101T120000
DTEND;TZID=UTC:20261101T170000
DTSTAMP:20260423T184613
CREATED:20260212T210913Z
LAST-MODIFIED:20260212T210913Z
UID:1981-1793534400-1793552400@somosalianza614.org
SUMMARY:🕯️ Remember Me 2026
DESCRIPTION:
URL:https://somosalianza614.org/event/%f0%9f%95%af%ef%b8%8f-remember-me-2026/
END:VEVENT
BEGIN:VEVENT
DTSTART;TZID=UTC:20261125T140000
DTEND;TZID=UTC:20261125T170000
DTSTAMP:20260423T184613
CREATED:20260212T210539Z
LAST-MODIFIED:20260212T210539Z
UID:1977-1795615200-1795626000@somosalianza614.org
SUMMARY:Wednesday's Fruit and Vegetable Bag Special.
DESCRIPTION:“Recycle and take home your bag of fruits and vegetables.”
URL:https://somosalianza614.org/event/wednesdays-fruit-and-vegetable-bag-special-7/
END:VEVENT
END:VCALENDAR