BEGIN:VCALENDAR
VERSION:2.0
PRODID:-//Alianza 614 - ECPv6.15.20//NONSGML v1.0//EN
CALSCALE:GREGORIAN
METHOD:PUBLISH
X-ORIGINAL-URL:https://somosalianza614.org
X-WR-CALDESC:Events for Alianza 614
REFRESH-INTERVAL;VALUE=DURATION:PT1H
X-Robots-Tag:noindex
X-PUBLISHED-TTL:PT1H
BEGIN:VTIMEZONE
TZID:UTC
BEGIN:STANDARD
TZOFFSETFROM:+0000
TZOFFSETTO:+0000
TZNAME:UTC
DTSTART:20250101T000000
END:STANDARD
END:VTIMEZONE
BEGIN:VEVENT
DTSTART;TZID=UTC:20261101T120000
DTEND;TZID=UTC:20261101T170000
DTSTAMP:20260423T211319
CREATED:20260212T210913Z
LAST-MODIFIED:20260212T210913Z
UID:1981-1793534400-1793552400@somosalianza614.org
SUMMARY:🕯️ Remember Me 2026
DESCRIPTION:
URL:https://somosalianza614.org/event/%f0%9f%95%af%ef%b8%8f-remember-me-2026/
END:VEVENT
BEGIN:VEVENT
DTSTART;TZID=UTC:20261125T140000
DTEND;TZID=UTC:20261125T170000
DTSTAMP:20260423T211319
CREATED:20260212T210539Z
LAST-MODIFIED:20260212T210539Z
UID:1977-1795615200-1795626000@somosalianza614.org
SUMMARY:Wednesday's Fruit and Vegetable Bag Special.
DESCRIPTION:“Recycle and take home your bag of fruits and vegetables.”
URL:https://somosalianza614.org/event/wednesdays-fruit-and-vegetable-bag-special-7/
END:VEVENT
END:VCALENDAR