BEGIN:VCALENDAR
VERSION:2.0
PRODID:-//Alianza 614 - ECPv6.15.20//NONSGML v1.0//EN
CALSCALE:GREGORIAN
METHOD:PUBLISH
X-WR-CALNAME:Alianza 614
X-ORIGINAL-URL:https://somosalianza614.org
X-WR-CALDESC:Events for Alianza 614
REFRESH-INTERVAL;VALUE=DURATION:PT1H
X-Robots-Tag:noindex
X-PUBLISHED-TTL:PT1H
BEGIN:VTIMEZONE
TZID:UTC
BEGIN:STANDARD
TZOFFSETFROM:+0000
TZOFFSETTO:+0000
TZNAME:UTC
DTSTART:20230101T000000
END:STANDARD
END:VTIMEZONE
BEGIN:VEVENT
DTSTART;TZID=UTC:20240430T080000
DTEND;TZID=UTC:20240430T170000
DTSTAMP:20260423T225652
CREATED:20240902T185239Z
LAST-MODIFIED:20240928T204743Z
UID:620-1714464000-1714496400@somosalianza614.org
SUMMARY:Festival del Dia del Nino Children's Day Festival
DESCRIPTION:Dia del Nino Children’s Day Festival  
URL:https://somosalianza614.org/event/festival-del-dia-del-nino-childrens-day-festival/
LOCATION:OH
END:VEVENT
BEGIN:VEVENT
DTSTART;TZID=UTC:20240302T080000
DTEND;TZID=UTC:20240302T170000
DTSTAMP:20260423T225652
CREATED:20240902T184950Z
LAST-MODIFIED:20240928T204750Z
UID:618-1709366400-1709398800@somosalianza614.org
SUMMARY:Mano Dura a la Basura / Heavy Hand to the TRASH
DESCRIPTION:
URL:https://somosalianza614.org/event/mano-dura-a-la-basura-heavy-hand-to-the-trash/
LOCATION:OH
END:VEVENT
BEGIN:VEVENT
DTSTART;TZID=UTC:20240214T153000
DTEND;TZID=UTC:20240214T170000
DTSTAMP:20260423T225652
CREATED:20240902T181915Z
LAST-MODIFIED:20240928T204804Z
UID:613-1707924600-1707930000@somosalianza614.org
SUMMARY:Corazones Felices/Happy Hearts
DESCRIPTION:Corazones Felices/Happy Hearts
URL:https://somosalianza614.org/event/corazones-felices-happy-hearts/
LOCATION:OH
END:VEVENT
END:VCALENDAR