BEGIN:VCALENDAR
VERSION:2.0
PRODID:-//Alianza 614 - ECPv6.15.20//NONSGML v1.0//EN
CALSCALE:GREGORIAN
METHOD:PUBLISH
X-WR-CALNAME:Alianza 614
X-ORIGINAL-URL:https://somosalianza614.org
X-WR-CALDESC:Events for Alianza 614
REFRESH-INTERVAL;VALUE=DURATION:PT1H
X-Robots-Tag:noindex
X-PUBLISHED-TTL:PT1H
BEGIN:VTIMEZONE
TZID:UTC
BEGIN:STANDARD
TZOFFSETFROM:+0000
TZOFFSETTO:+0000
TZNAME:UTC
DTSTART:20230101T000000
END:STANDARD
END:VTIMEZONE
BEGIN:VEVENT
DTSTART;TZID=UTC:20240818T080000
DTEND;TZID=UTC:20240818T170000
DTSTAMP:20260424T192110
CREATED:20240902T185604Z
LAST-MODIFIED:20240928T204738Z
UID:622-1723968000-1724000400@somosalianza614.org
SUMMARY:Mochila Feliz /Happy Backpack
DESCRIPTION:Mochila Feliz /Happy Backpack
URL:https://somosalianza614.org/event/mochila-feliz-happy-backpack/
CATEGORIES:calendar
END:VEVENT
END:VCALENDAR