BEGIN:VCALENDAR
VERSION:2.0
PRODID:-//Alianza 614 - ECPv6.15.20//NONSGML v1.0//EN
CALSCALE:GREGORIAN
METHOD:PUBLISH
X-WR-CALNAME:Alianza 614
X-ORIGINAL-URL:https://somosalianza614.org
X-WR-CALDESC:Events for Alianza 614
REFRESH-INTERVAL;VALUE=DURATION:PT1H
X-Robots-Tag:noindex
X-PUBLISHED-TTL:PT1H
BEGIN:VTIMEZONE
TZID:UTC
BEGIN:STANDARD
TZOFFSETFROM:+0000
TZOFFSETTO:+0000
TZNAME:UTC
DTSTART:20240101T000000
END:STANDARD
END:VTIMEZONE
BEGIN:VEVENT
DTSTART;TZID=UTC:20251022T140000
DTEND;TZID=UTC:20251022T170000
DTSTAMP:20260423T235957
CREATED:20250315T212512Z
LAST-MODIFIED:20260212T204753Z
UID:1752-1761141600-1761152400@somosalianza614.org
SUMMARY:El Morral - Produce Market
DESCRIPTION:Free fresh produce for the entire community. Pack your bags!\n📍 Location: 4131 Clime Rd\, Columbus\, OH
URL:https://somosalianza614.org/event/el-morral-produce-market-8/
CATEGORIES:calendar
END:VEVENT
BEGIN:VEVENT
DTSTART;TZID=UTC:20251030T160000
DTEND;TZID=UTC:20251030T200000
DTSTAMP:20260423T235957
CREATED:20250626T015622Z
LAST-MODIFIED:20260212T204749Z
UID:1884-1761840000-1761854400@somosalianza614.org
SUMMARY:We Are One Voice: “Second Chances”
DESCRIPTION:Event on domestic violence\, resilience and second chances. Community participation\nand resources.
URL:https://somosalianza614.org/event/we-are-one-voice-second-chances/
END:VEVENT
END:VCALENDAR