BEGIN:VCALENDAR
VERSION:2.0
PRODID:-//Alianza 614 - ECPv6.15.20//NONSGML v1.0//EN
CALSCALE:GREGORIAN
METHOD:PUBLISH
X-ORIGINAL-URL:https://somosalianza614.org
X-WR-CALDESC:Events for Alianza 614
REFRESH-INTERVAL;VALUE=DURATION:PT1H
X-Robots-Tag:noindex
X-PUBLISHED-TTL:PT1H
BEGIN:VTIMEZONE
TZID:UTC
BEGIN:STANDARD
TZOFFSETFROM:+0000
TZOFFSETTO:+0000
TZNAME:UTC
DTSTART:20250101T000000
END:STANDARD
END:VTIMEZONE
BEGIN:VEVENT
DTSTART;TZID=UTC:20260213T170000
DTEND;TZID=UTC:20260213T200000
DTSTAMP:20260423T184419
CREATED:20260212T210026Z
LAST-MODIFIED:20260212T210026Z
UID:1953-1771002000-1771012800@somosalianza614.org
SUMMARY:Happy Hearts
DESCRIPTION:Welcome to Our Allies 2026
URL:https://somosalianza614.org/event/happy-hearts/
END:VEVENT
END:VCALENDAR