BEGIN:VCALENDAR
VERSION:2.0
PRODID:-//Alianza 614 - ECPv6.15.20//NONSGML v1.0//EN
CALSCALE:GREGORIAN
METHOD:PUBLISH
X-ORIGINAL-URL:https://somosalianza614.org
X-WR-CALDESC:Events for Alianza 614
REFRESH-INTERVAL;VALUE=DURATION:PT1H
X-Robots-Tag:noindex
X-PUBLISHED-TTL:PT1H
BEGIN:VTIMEZONE
TZID:UTC
BEGIN:STANDARD
TZOFFSETFROM:+0000
TZOFFSETTO:+0000
TZNAME:UTC
DTSTART:20250101T000000
END:STANDARD
END:VTIMEZONE
BEGIN:VEVENT
DTSTART;TZID=UTC:20260808T100000
DTEND;TZID=UTC:20260808T130000
DTSTAMP:20260423T211018
CREATED:20260212T210625Z
LAST-MODIFIED:20260212T210625Z
UID:1978-1786183200-1786194000@somosalianza614.org
SUMMARY:Happy Backpack
DESCRIPTION:
URL:https://somosalianza614.org/event/happy-backpack/
END:VEVENT
BEGIN:VEVENT
DTSTART;TZID=UTC:20260826T140000
DTEND;TZID=UTC:20260826T170000
DTSTAMP:20260423T211018
CREATED:20260212T210436Z
LAST-MODIFIED:20260212T210436Z
UID:1974-1787752800-1787763600@somosalianza614.org
SUMMARY:Wednesday's Fruit and Vegetable Bag Special.
DESCRIPTION:“Recycle and take home your bag of fruits and vegetables.”
URL:https://somosalianza614.org/event/wednesdays-fruit-and-vegetable-bag-special-4/
END:VEVENT
END:VCALENDAR