BEGIN:VCALENDAR
VERSION:2.0
PRODID:-//Alianza 614 - ECPv6.15.20//NONSGML v1.0//EN
CALSCALE:GREGORIAN
METHOD:PUBLISH
X-WR-CALNAME:Alianza 614
X-ORIGINAL-URL:https://somosalianza614.org
X-WR-CALDESC:Events for Alianza 614
REFRESH-INTERVAL;VALUE=DURATION:PT1H
X-Robots-Tag:noindex
X-PUBLISHED-TTL:PT1H
BEGIN:VTIMEZONE
TZID:UTC
BEGIN:STANDARD
TZOFFSETFROM:+0000
TZOFFSETTO:+0000
TZNAME:UTC
DTSTART:20250101T000000
END:STANDARD
END:VTIMEZONE
BEGIN:VEVENT
DTSTART;TZID=UTC:20260426T130000
DTEND;TZID=UTC:20260426T170000
DTSTAMP:20260423T153720
CREATED:20260212T210744Z
LAST-MODIFIED:20260212T210744Z
UID:1979-1777208400-1777222800@somosalianza614.org
SUMMARY:Children’s Day Festival
DESCRIPTION:The Importance of Mental Health in Our Children
URL:https://somosalianza614.org/event/childrens-day-festival-2/
END:VEVENT
END:VCALENDAR